BEGIN:VCALENDAR
VERSION:2.0
PRODID:-//Locale ECOLO Ixelles - ECPv6.15.20//NONSGML v1.0//EN
CALSCALE:GREGORIAN
METHOD:PUBLISH
X-WR-CALNAME:Locale ECOLO Ixelles
X-ORIGINAL-URL:https://ixelles.ecolo.be
X-WR-CALDESC:évènements pour Locale ECOLO Ixelles
REFRESH-INTERVAL;VALUE=DURATION:PT1H
X-Robots-Tag:noindex
X-PUBLISHED-TTL:PT1H
BEGIN:VTIMEZONE
TZID:Europe/Brussels
BEGIN:DAYLIGHT
TZOFFSETFROM:+0100
TZOFFSETTO:+0200
TZNAME:CEST
DTSTART:20180325T010000
END:DAYLIGHT
BEGIN:STANDARD
TZOFFSETFROM:+0200
TZOFFSETTO:+0100
TZNAME:CET
DTSTART:20181028T010000
END:STANDARD
BEGIN:DAYLIGHT
TZOFFSETFROM:+0100
TZOFFSETTO:+0200
TZNAME:CEST
DTSTART:20190331T010000
END:DAYLIGHT
BEGIN:STANDARD
TZOFFSETFROM:+0200
TZOFFSETTO:+0100
TZNAME:CET
DTSTART:20191027T010000
END:STANDARD
BEGIN:DAYLIGHT
TZOFFSETFROM:+0100
TZOFFSETTO:+0200
TZNAME:CEST
DTSTART:20200329T010000
END:DAYLIGHT
BEGIN:STANDARD
TZOFFSETFROM:+0200
TZOFFSETTO:+0100
TZNAME:CET
DTSTART:20201025T010000
END:STANDARD
BEGIN:DAYLIGHT
TZOFFSETFROM:+0100
TZOFFSETTO:+0200
TZNAME:CEST
DTSTART:20210328T010000
END:DAYLIGHT
BEGIN:STANDARD
TZOFFSETFROM:+0200
TZOFFSETTO:+0100
TZNAME:CET
DTSTART:20211031T010000
END:STANDARD
BEGIN:DAYLIGHT
TZOFFSETFROM:+0100
TZOFFSETTO:+0200
TZNAME:CEST
DTSTART:20220327T010000
END:DAYLIGHT
BEGIN:STANDARD
TZOFFSETFROM:+0200
TZOFFSETTO:+0100
TZNAME:CET
DTSTART:20221030T010000
END:STANDARD
BEGIN:DAYLIGHT
TZOFFSETFROM:+0100
TZOFFSETTO:+0200
TZNAME:CEST
DTSTART:20230326T010000
END:DAYLIGHT
BEGIN:STANDARD
TZOFFSETFROM:+0200
TZOFFSETTO:+0100
TZNAME:CET
DTSTART:20231029T010000
END:STANDARD
BEGIN:DAYLIGHT
TZOFFSETFROM:+0100
TZOFFSETTO:+0200
TZNAME:CEST
DTSTART:20240331T010000
END:DAYLIGHT
BEGIN:STANDARD
TZOFFSETFROM:+0200
TZOFFSETTO:+0100
TZNAME:CET
DTSTART:20241027T010000
END:STANDARD
BEGIN:DAYLIGHT
TZOFFSETFROM:+0100
TZOFFSETTO:+0200
TZNAME:CEST
DTSTART:20250330T010000
END:DAYLIGHT
BEGIN:STANDARD
TZOFFSETFROM:+0200
TZOFFSETTO:+0100
TZNAME:CET
DTSTART:20251026T010000
END:STANDARD
BEGIN:DAYLIGHT
TZOFFSETFROM:+0100
TZOFFSETTO:+0200
TZNAME:CEST
DTSTART:20260329T010000
END:DAYLIGHT
BEGIN:STANDARD
TZOFFSETFROM:+0200
TZOFFSETTO:+0100
TZNAME:CET
DTSTART:20261025T010000
END:STANDARD
BEGIN:DAYLIGHT
TZOFFSETFROM:+0100
TZOFFSETTO:+0200
TZNAME:CEST
DTSTART:20270328T010000
END:DAYLIGHT
BEGIN:STANDARD
TZOFFSETFROM:+0200
TZOFFSETTO:+0100
TZNAME:CET
DTSTART:20271031T010000
END:STANDARD
END:VTIMEZONE
BEGIN:VEVENT
DTSTART;TZID=Europe/Brussels:20260419T120000
DTEND;TZID=Europe/Brussels:20260419T160000
DTSTAMP:20260421T121448
CREATED:20260413T102655Z
LAST-MODIFIED:20260413T102655Z
UID:8578-1776600000-1776614400@ixelles.ecolo.be
SUMMARY:Opération « Qu’est-ce qu’on sème ! » à Ixelles (Flagey)
DESCRIPTION:Comme chaque année\, les conseillers communaux et militants de la section Ecolo-Groen Ixelles vous donnent rendez-vous le dimanche 19 avril à midi Place Flagey\, au bord des étangs\, pour vous distribuer gratuitement des semences à planter dans votre jardin ou votre potager. \nOffrons des fleurs à la biodiversité à Flagey ce dimanche 19 avril.\nÀ travers l’action « Qu’est-ce qu’on sème ! »\, Ecolo se mobilise pour la liberté de semer\, de cultiver et de choisir ce que nous mangeons\, afin de préserver notre santé et construire notre avenir. Planter ces graines permet de favoriser la biodiversité locale (pollinisateurs et oiseaux)\, mais c’est aussi un acte politique. Ecolo s’engage fermement à aider les citoyennes et citoyens à reprendre le pouvoir des mains des lobbies agroalimentaires.\nSachets distribués gratuitement\, jusqu’à épuisement des stocks.
URL:https://ixelles.ecolo.be/event/operation-quest-ce-quon-seme-a-ixelles-flagey/
LOCATION:Flagey\, Place Sainte-Croix\, Ixelles\, 1050\, Belgique
CATEGORIES:Actions de terrain,Événements
END:VEVENT
BEGIN:VEVENT
DTSTART;TZID=Europe/Brussels:20260128T180000
DTEND;TZID=Europe/Brussels:20260128T200000
DTSTAMP:20260421T121448
CREATED:20260122T155911Z
LAST-MODIFIED:20260122T155911Z
UID:8333-1769623200-1769630400@ixelles.ecolo.be
SUMMARY:Vœux des élues et élus écologistes d'Ixelles
DESCRIPTION:✨ Commencer l’année ensemble\, avec énergie et optimisme✨\nEt si\, malgré un contexte parfois peu réjouissant voire anxiogène\, on choisissait l’enthousiasme\, la créativité et le collectif ? Les élu·es écologistes d’Ixelles vous invitent à un moment convivial et inspirant pour partager leurs vœux et lancer ensemble cette nouvelle année.\nLe 28 janvier \, retrouvons nous au bar Pompette \, juste en face de la maison communale\, pour échanger des idées\, créer du lien et nourrir ce qui fait la force de l’écologie : la capacité à imaginer des solutions\, penser en dehors de la boîte et construire du positif\, ensemble.\nVenez faire le plein d’énergie et d’inspiration pour aborder 2026 \, une année où tout est encore possible
URL:https://ixelles.ecolo.be/event/voeux-des-elues-et-elus-ecologistes-dixelles/
LOCATION:Pompette\, Chaussée d'Ixelles\, 181\, Ixelles\, 1050\, Belgium
CATEGORIES:Événements,Rencontres citoyennes
ATTACH;FMTTYPE=image/jpeg:https://ixelles.ecolo.be/wp-content/uploads/sites/456/2026/01/WhatsApp-Image-2026-01-22-at-14.58.05-1.jpeg
END:VEVENT
BEGIN:VEVENT
DTSTART;TZID=Europe/Brussels:20251116T130000
DTEND;TZID=Europe/Brussels:20251116T183000
DTSTAMP:20260421T121448
CREATED:20251028T130212Z
LAST-MODIFIED:20251028T141904Z
UID:7883-1763298000-1763317800@ixelles.ecolo.be
SUMMARY:Festival Créons Demain
DESCRIPTION:Et si on passait plus de temps à regarder les solutions que les problèmes ? À Ixelles\, nous avons la chance d’avoir un tissu associatif super dynamique et de nombreux acteurs et actrices qui travaillent tous les jours à créer une transition écologique\, juste et solidaire. \nLe dimanche 16 novembre\, venez les rencontrer lors de la 4e édition de notre Festival CRÉONS DEMAIN\, qui met en avant celles et ceux qui\, avec nous\, avec vous\, créent un avenir solidaire et enthousiaste 🌱✨ \n📍 à la Maison de quartier Malibran\, rue de la Digue (juste à côté de Flagey)\, venez rencontrer des acteurs et actrices tels que @natagora.be @r_use.fabrik @beesapibruxelles @garnishcanteen @remorquable @suggbikes et bien d’autres \nÉvénement totalement gratuit et familial. On a hâte de vous y accueillir 💚\nVenez nombreux·ses !
URL:https://ixelles.ecolo.be/event/festival-creons-demain/
LOCATION:Maison de quartier Malibran\, rue de la Digue 10\, Ixelles\, 1050\, Belgique
CATEGORIES:Événements,Rencontres citoyennes
ATTACH;FMTTYPE=image/jpeg:https://ixelles.ecolo.be/wp-content/uploads/sites/456/2025/10/Flyer-pour-site.jpg
END:VEVENT
BEGIN:VEVENT
DTSTART;TZID=Europe/Brussels:20251016T190000
DTEND;TZID=Europe/Brussels:20251016T233000
DTSTAMP:20260421T121448
CREATED:20251016T195118Z
LAST-MODIFIED:20251028T205520Z
UID:7961-1760641200-1760657400@ixelles.ecolo.be
SUMMARY:Conseil communal
DESCRIPTION:
URL:https://ixelles.ecolo.be/event/conseil-communal/
LOCATION:Maison communale d’Ixelles\, Chaussée d'Ixelles\, 168\, Ixelles\, 1050\, Belgium
CATEGORIES:Conseil communal,Événements
ATTACH;FMTTYPE=image/jpeg:https://ixelles.ecolo.be/wp-content/uploads/sites/456/2025/10/2025-10-16-01.jpg
END:VEVENT
BEGIN:VEVENT
DTSTART;TZID=Europe/Brussels:20250925T190000
DTEND;TZID=Europe/Brussels:20250925T233000
DTSTAMP:20260421T121448
CREATED:20250924T224030Z
LAST-MODIFIED:20251028T234133Z
UID:7978-1758826800-1758843000@ixelles.ecolo.be
SUMMARY:Conseil communal
DESCRIPTION:
URL:https://ixelles.ecolo.be/event/conseil-communal-2/
LOCATION:Maison communale d’Ixelles\, Chaussée d'Ixelles\, 168\, Ixelles\, 1050\, Belgium
CATEGORIES:Conseil communal,Événements
END:VEVENT
BEGIN:VEVENT
DTSTART;TZID=Europe/Brussels:20250915T183000
DTEND;TZID=Europe/Brussels:20250915T223000
DTSTAMP:20260421T121448
CREATED:20251028T145515Z
LAST-MODIFIED:20251028T145515Z
UID:7921-1757961000-1757975400@ixelles.ecolo.be
SUMMARY:Soirée de rentrée
DESCRIPTION:C’est reparti pour une nouvelle année scolaire ! 🎉\nOn vous donne rendez-vous le lundi 15 septembre 2025 dès 18h30 à La Turbean (campus solbosch de l’ULB) pour un moment convivial et festif. \nAu programme :\n✨ un apéro convivial pour lancer l’année\n✨ et la présence exceptionnelle de Marie Lecocq (co-présidente fédérale)\, Rajae Maouane (députée fédérale) et Simon Moutquin (ancien député fédéral). \n📍 Quand ? Lundi 15 septembre – dès 18h30\n📍 Où ? La Turbean – Avenue Paul Héger 22\, Ixelles \nUne rentrée festive\, ouverte et tournée vers l’avenir 💚\nVenez nombreux·ses !
URL:https://ixelles.ecolo.be/event/soiree-de-rentree/
LOCATION:La Turbean\, Avenue Paul Héger 22\, Ixelles\, 1050\, Belgium
CATEGORIES:Événements,Rencontres citoyennes
ATTACH;FMTTYPE=image/jpeg:https://ixelles.ecolo.be/wp-content/uploads/sites/456/2025/09/Soireee-de-rentree.jpg
END:VEVENT
BEGIN:VEVENT
DTSTART;TZID=Europe/Brussels:20191212T190000
DTEND;TZID=Europe/Brussels:20191212T220000
DTSTAMP:20260421T121448
CREATED:20191202T221836Z
LAST-MODIFIED:20191202T225431Z
UID:5492-1576177200-1576188000@ixelles.ecolo.be
SUMMARY:Rencontre citoyenne participative
DESCRIPTION:Construisons ensemble la vie de notre quartier \nOuvert à tous les habitant·e·s \nLa Commune a décidé d’initier la tenue de rencontres citoyennes dans les quartiers basées sur un tout nouveau modèle. La participation des quartiers est indispensable dans la construction des politiques publiques qui les touchent directement. Elle souhaite insuffler une dynamique permettant à chacun.e de questionner et/ou émettre un avis\, établir des priorités pour son quartier. \nAfin d’identifier les besoins et priorités qui seront abordées lors de ces rencontres citoyennes pour chaque quartier\, elle invite les comités de quartier\, associations d’habitant.e.s et de commerçant.e.s du quartier à une réunion préparatoire qui repose sur un processus d’intelligence collective. Ensuite\, les réunions citoyennes ouvertes à toutes et tous seront axées sur la participation active des riverain.e.s. et la co-construction de ces priorités pour chaque quartier. La rencontre sera accompagnée pour cela de l’animateur Particitiz\, spécialiste de l’organisation de processus participatifs s’appuyant sur des outils d’intelligence collective. \nCette réunion clôture le cycle par quartier et concerne le Quartier Nord (cliquez ici pour vérifier si vous résidez dans ce quartier).
URL:https://ixelles.ecolo.be/event/rencontre-citoyenne-participative/
LOCATION:Hall omnisports de l’Athénée Charles Janssens\, Chaussée de Wavre 152\, Ixelles\, 1050\, Belgique
ATTACH;FMTTYPE=image/jpeg:https://ixelles.ecolo.be/wp-content/uploads/sites/456/2019/12/rencontres.jpg
END:VEVENT
BEGIN:VEVENT
DTSTART;TZID=Europe/Brussels:20191124T110000
DTEND;TZID=Europe/Brussels:20191124T130000
DTSTAMP:20260421T121448
CREATED:20191111T174120Z
LAST-MODIFIED:20191120T081332Z
UID:5466-1574593200-1574600400@ixelles.ecolo.be
SUMMARY:Action Petits fruitiers
DESCRIPTION:  \nLa locale Ecolo Ixelles vous donne rendez-vous\nLe dernier week-end de novembre\, Ecolo offrira dans 130 communes de Wallonie et de Bruxelles 12 000 plants d’arbustes à petits fruits (groseilliers\, cassissiers\, framboisiers). \nSoutenons la production locale et de qualité\, qui fait vivre les agriculteurs et les producteurs de nos régions. Soutenons les circuits courts. \nC’est bon pour la santé\, bon pour l’environnement et bon pour le portefeuille ! \nDe nombreux aliments arrivent dans nos assiettes après avoir parcouru des milliers de kilomètres. Un exemple parmi d’autres : la Belgique importe autant de pommes qu’elle n’en exporte… \nCe système mondialisé\, qui vise le profit avant tout\, rend difficile le contrôle de toutes les étapes de la chaîne. Des aliments pas toujours de qualité\, des risques pour la santé\, une délocalisation de l’emploi\, un impact accru sur l’environnement… sont quelques-unes des conséquences de ce mode de production.Face à cela\, Ecolo soutient à tous les niveaux de pouvoir le développement des circuits courts. \nUn circuit court\, c’est un mode de production et de commercialisation de l’alimentation qui vise à rapprocher le producteur du consommateur. Du champ à l’assiette\, de l’étable à la table… Un chemin plus direct avec des plus-values multiples pour l’économie locale\, pour la qualité de l’alimentation et pour l’environnement. \nSoutenir les circuits courts\, c’est une démarche simple avec de grands effets et aussi facile que de planter un arbuste !
URL:https://ixelles.ecolo.be/event/action-petits-fruitiers/
LOCATION:Frit Flagey\, Place Flagey\, Ixelles\, 1050\, Belgique
ATTACH;FMTTYPE=image/png:https://ixelles.ecolo.be/wp-content/uploads/sites/456/2019/11/FB_cover_PetitsFruits2016-1.png
ORGANIZER;CN="SL Ixelles":MAILTO:info@ecoloxl.be
END:VEVENT
BEGIN:VEVENT
DTSTART;TZID=Europe/Brussels:20191121T190000
DTEND;TZID=Europe/Brussels:20191121T230000
DTSTAMP:20260421T121448
CREATED:20191111T173306Z
LAST-MODIFIED:20191111T173822Z
UID:5461-1574362800-1574377200@ixelles.ecolo.be
SUMMARY:Biojolais 2019
DESCRIPTION:Europe Ecologie Les Verts Belgique (France)\, Bündnis 90/Die Grünen (Allemagne)\, ÉCOLO Ixelles (Belgique)\, Vihreat (Finlande) et le Groupe des Verts/Ale du Parlement européen ont le plaisir de vous inviter à la dégustation de vins et fromages bio à l’occasion de la sortie du Beaujolais nouveau 2010. Venez nous rejoindre\, une année de plus\, pour un verre dans une commune verte! Nous aurons le plaisir de compter parmi nous Rajae Maouane\, co-présidente d’Ecolo (Belgium) et Saskia Bricmont membre du Parlement européen. \n« Le Beaujolais nouveau est arrivé ! » Cette devise populaire annonce chaque troisième jeudi du mois de novembre les fêtes d’automne. Avec la transition de la viticulture traditionnelle vers des pratiques plus durables pour l’Homme et l’environnement\, de plus en plus de viticulteurs du Beaujolais en France se convertissent à une production bio et nature. \nLes 50 premières personnes se verront offrir 1 verre de Biojolais. Pour les verres supplémentaires\, 2 euros vous sera demandé (10 euros la bouteille). Le vin provient du domaine de Marcel Joubert\, viticulteur bio de la région française du Beaujolais. Nous servirons également du jus de fruit bio. Il sera accompagné de fromage bio belge fournis par le fromager Ixellois Jacques Defrenne.
URL:https://ixelles.ecolo.be/event/biojolais/
LOCATION:Horloge du Sud\, rue du Trône 141\, Ixelles\, 1050\, Belgique
ATTACH;FMTTYPE=image/jpeg:https://ixelles.ecolo.be/wp-content/uploads/sites/456/2019/11/biojolais.jpg
ORGANIZER;CN="SL Ixelles":MAILTO:info@ecoloxl.be
END:VEVENT
BEGIN:VEVENT
DTSTART;TZID=Europe/Brussels:20191117T140000
DTEND;TZID=Europe/Brussels:20191117T170000
DTSTAMP:20260421T121448
CREATED:20191012T184027Z
LAST-MODIFIED:20191020T144323Z
UID:5437-1573999200-1574010000@ixelles.ecolo.be
SUMMARY:Créons demain
DESCRIPTION:Moment de rencontres et d’échanges avec plus d’une vingtaine d’actrices et d’acteurs de changements d’Ixelles et de la Région Bruxelles-Capitale. Venez les rencontrer et échanger sur leurs initiatives ! \nVous pourrez y découvrir entre autres : \n\nAhooga Bike\, des vélos pliables électriques et hyperlégers\nBières de Quartiers\, des bières produites à Ixelles\nBruxsel’air\, une initiative citoyenne et bénévole qui milite pour un air respirable à Bruxelles\nLa carte durable collaborative interactive d’Ixelles\, qui répertorie toutes les initiatives qui préfigurent de quoi nous voudrions que notre futur soit fait (commerce équitable\, économie circulaire\, mobilité douce\, nature en ville\, etc). Nous vous invitons aussi à la compléter !\nCasa Legal\, collectif de quatre avocates mues par la volonté de participer à un changement positif en proposant une nouvelle manière d’exercer le métier d’avocat\nDUO for a JOB\, qui met en contact des jeunes chercheurs d’emploi issus de l’immigration avec des personnes expérimentées\, du même secteur professionnel\, afin que ces dernières les accompagnent dans leur recherche d’emploi\nGRACQ Ixelles (Groupe de Recherche et d’Action des Cyclistes Quotidiens)\, une association qui représente les usagers cyclistes en Belgique francophone et défend leurs intérêts\nHabitat et Rénovation\, une association d’insertion par le logement\, l’habitat et l’environnement\nKologa\, qui permet à des personnes réfugiées d’intégrer des colocations bruxelloises\nLes chercheurs d’air\, un projet de science collaborative qui a pour objectif de mieux comprendre\, et donc de mieux combattre la pollution de l’air\nNewB\, coopérative belge qui travaille à la construction d’une banque éthique et durable\nnubo.coop\, coopérative qui propose des services en ligne respectueux de la vie privée\nPépite Blues\, librairie générale qui met les afro-littératures du monde entier à l’honneur\nPlateforme citoyenne de soutien aux réfugiés Bruxelles\, qu’il n’est plus nécessaire de présenter\nPotagers Agnès Varda\, un potager collectif à Ixelles\nRencontres des continents\, qui mène des activités de coopération internationale d’éducation à la citoyenneté\nRideau de Bruxelles\, théâtre qui soutient la création contemporaine en révélant les écritures belges et internationales les plus singulières et les nouvelles pratiques scéniques\nSee U\, projet d’occupation temporaire de l’ancienne Caserne de gendarmerie Fritz Toussaint\, dont 25 000 m² sont entièrement dédiés à la culture\, à l’éducation\, au durable et à l’innovation\nSINGA Belgium\, qui crée des espaces de rencontre\, d’échange et de collaboration entre nouveaux arrivants et locaux\nThéâtre Varia\, théâtre à (re)découvrir à Ixelles\nTournevie\, une bibliothèque de prêt d’outils\nWeCo Store\, qui promeut une mode dans le respect de l’environnement et de l’être humain\n\net d’autres \nVous aurez aussi l’occasion de croiser nos élu·e·s du conseil communal et ceux et celles de l’action sociale (CPAS). \nAu plaisir de vous y retrouver !
URL:https://ixelles.ecolo.be/event/creons-demain/
LOCATION:Maison de quartier Malibran\, rue de la Digue 10\, Ixelles\, 1050\, Belgique
ATTACH;FMTTYPE=image/jpeg:https://ixelles.ecolo.be/wp-content/uploads/sites/456/2019/10/creons-demain-2019.jpg
ORGANIZER;CN="SL Ixelles":MAILTO:info@ecoloxl.be
END:VEVENT
BEGIN:VEVENT
DTSTART;TZID=Europe/Brussels:20191013T110000
DTEND;TZID=Europe/Brussels:20191013T170000
DTSTAMP:20260421T121448
CREATED:20191012T171709Z
LAST-MODIFIED:20191012T182210Z
UID:5428-1570964400-1570986000@ixelles.ecolo.be
SUMMARY:Animaux dans la Ville
DESCRIPTION:Ixelles organise la nouvelle édition d’Animaux dans la Ville\, un rendez-vous devenu incontournable qui rassemble la majorité des associations de protection animale\, mais aussi beaucoup d’autres acteurs qui œuvrent pour les animaux et la biodiversité en ville. \n11.00 > 17.00 I Grimage\, ateliers de dessins\, projection de photos/films.\n11.00 I Visite guidée des étangs.\n11.30 I Capsule « Oiseaux en Ville » LRBPO.\n12.00 I Inauguration officielle en présence de tous les échevins du Bien-être animal.\n13.00 > 14.00 I Démonstration de la brigade canine.\n14.30 I Projection des documentaires « La minute sauvage » en présence du réalisateur\n15.30 > 16.00 I Concours du clebs le plus sympa (Inscriptions tout au long de la journée)\n16.30 I Remise des prix.\n17.00 I Clôture de la journée
URL:https://ixelles.ecolo.be/event/animaux-dans-la-ville/
LOCATION:Place Sainte-Croix Ixelles
ORGANIZER;CN="SL Ixelles":MAILTO:info@ecoloxl.be
END:VEVENT
BEGIN:VEVENT
DTSTART;TZID=Europe/Brussels:20191013T103000
DTEND;TZID=Europe/Brussels:20191013T120000
DTSTAMP:20260421T121448
CREATED:20191012T172524Z
LAST-MODIFIED:20191012T182723Z
UID:5415-1570962600-1570968000@ixelles.ecolo.be
SUMMARY:Promenade en poussette
DESCRIPTION:Rendons l’espace public aux enfants ! Ils sont notre avenir.\nC’est la quinzaine de la petite enfance et pour la toute première fois une balade en poussette aura lieu dans les rues d’Ixelles et particulièrement autour des étangs afin de montrer la place des poussettes dans la mobilité urbaine ! On annonce même la presse pour cet évènement.
URL:https://ixelles.ecolo.be/event/promenade-en-poussette/
LOCATION:Monument Charles Decoster place Flagey
END:VEVENT
BEGIN:VEVENT
DTSTART;TZID=Europe/Brussels:20190909T194500
DTEND;TZID=Europe/Brussels:20190909T220000
DTSTAMP:20260421T121448
CREATED:20190530T081120Z
LAST-MODIFIED:20190903T175621Z
UID:5344-1568058300-1568066400@ixelles.ecolo.be
SUMMARY:AG de rentrée
DESCRIPTION:A l’agenda\, nous vous proposons : \nEn première partie : \n\nAccueil et Actualités politiques (quelques minutes sur le collège\, le conseil communal et CPAS\, autres conseils et coprésidence)\nRetour sur la mise au vert des mandataires et Vert Pop\nPrésentation du calendrier des futures actions de la locale pour les prochains mois\nAppel aux membres à rejoindre différents groupes de travail en constitution (révision du ROI\, communication\, Action Créons Demain…)\n\nEn seconde partie : \n\nRencontre et échanges avec Yves Rouyet\, échevin de l’Urbanisme\, Patrimoine\, Mobilité\, Bien-être des animaux\, Qualité de la Vie. Yves nous fera part de tout ce qui a déjà été accompli depuis sa prise de fonction\, mais surtout de la vision et de projets concrets pour les prochaines années pour chacun de ses échevinats.\n\nFin prévue à 22h avec la possibilité de prolonger au bar. \nNous invitons tou.te. les nouveaux et nouvelles membres à nous rejoindre dès 19h30 au bar de l’Horloge du Sud. \nAu plaisir de tou·te·s vous revoir\, \nLa coprésidence Ecolo Ixelles
URL:https://ixelles.ecolo.be/event/ag-de-rentree/
LOCATION:Horloge du Sud\, rue du Trône 141\, Ixelles\, 1050\, Belgique
ORGANIZER;CN="SL Ixelles":MAILTO:info@ecoloxl.be
END:VEVENT
BEGIN:VEVENT
DTSTART;TZID=Europe/Brussels:20190603T194500
DTEND;TZID=Europe/Brussels:20190603T220000
DTSTAMP:20260421T121448
CREATED:20190527T200352Z
LAST-MODIFIED:20190604T040847Z
UID:5315-1559591100-1559599200@ixelles.ecolo.be
SUMMARY:AG festive post-élections
DESCRIPTION:(NL tekst onderaan) \nNous avons le plaisir de vous inviter à notre prochaine AG festive co-organisée avec Groen Elsene. En première partie\, l’objectif sera de mieux se connaître\, voir comment nous fonctionnons et discuter sur des possibilités de collaboration au niveau communal. \nEn seconde partie\, nous aurons un moment plus festif et célèbrerons les excellents résultats électoraux au niveau d’Ixelles. \nEn espérant vous voir nombreux lors de cette AG un peu spéciale. Le premier verre sera offert! \nNous vous informons déjà qu’il n’y aura pas d’AG en juillet et août et vous donnons déjà rendez-vous le lundi 2 septembre. \n\nWij nodigen jullie graag uit op onze feestelijke Ecolo-Groen bijeenkomst waarop we eerst de tijd zullen nemen om kennis te maken en te kijken hoe we in de komende jaren samen kunnen werken als lokale groepen. Nadien zullen we het glas heffen op de uitstekende resultaten van Groen en Ecolo in de gemeente. \nHet eerste glas is voor onze rekening!
URL:https://ixelles.ecolo.be/event/ag-festive-post-elections/
LOCATION:Elzenhof\, avenue de la Couronne 12\, Ixelles\, 1050\, Belgique
ORGANIZER;CN="SL Ixelles":MAILTO:info@ecoloxl.be
END:VEVENT
BEGIN:VEVENT
DTSTART;TZID=Europe/Brussels:20190526T170000
DTEND;TZID=Europe/Brussels:20190527T000000
DTSTAMP:20260421T121448
CREATED:20190526T151241Z
LAST-MODIFIED:20190526T151241Z
UID:5308-1558890000-1558915200@ixelles.ecolo.be
SUMMARY:Suivez la vague verte // Volg de groene golf
DESCRIPTION:[🇳🇱 hieronder] \nLe 26 mai prochain\, la plus longue période électorale de tous les temps s’achève sur\, nous l’espérons\, une vague verte déferlant sur l’ensemble du pays 🌊 🌿 \nRejoignez-nous à Bruxelles\, pour suivre avec nous les résultats de ces élections 📊\, vivre cette soirée électorale à nos côtés et\, bien sûr\, faire la fête 🍻 \n🎊 L’accès à la soirée est gratuit 🎊 \n\nOp zondag 26 mei laten we een groene golf over het land spoelen en komt de grootste campagne ooit tot een knallend einde. Kom naar Brussel en volg samen de verkiezingsuitslag\, maak de eerste reactie van Groen mee en dans de campagne van je af. \n📍 De toegang is gratis\, meld je aan via Eventbrite. Een heen-en-terug-busticket vanuit Genk\, Lummen\, Kortrijk of Deinze kost 6 euro: https://www.eventbrite.be/e/verkiezingsdag-26-mei-2019-tickets-59382568862
URL:https://ixelles.ecolo.be/event/suivez-la-vague-verte-volg-de-groene-golf/
LOCATION:La Madeleine\, Rue Duquesnoy 10\, Bruxelles\, 1000\, Belgique
END:VEVENT
BEGIN:VEVENT
DTSTART;TZID=Europe/Brussels:20190518T104500
DTEND;TZID=Europe/Brussels:20190518T120000
DTSTAMP:20260421T121448
CREATED:20190513T212759Z
LAST-MODIFIED:20190513T212821Z
UID:5286-1558176300-1558180800@ixelles.ecolo.be
SUMMARY:Toutes et tous au coeur du changement [Meeting de campagne]
DESCRIPTION:Nous avons tou.te.s notre passé\, tou.te.s notre histoire. Elle nous est\, à chaque fois\, personnelle. 🤝 Mais ce qui nous relie est plus fondamental que ce qui nous divise ✋ \nDétruire prend peu de temps et nécessite peu d’efforts. Détruire\, c’est l’apanage de ceux qui fuient l’effort pour la facilité. Construire implique – tout au contraire – le dialogue\, l’ouverture et la recherche de solutions 💡 \n🗳 Le 26 mai\, c’est le combat de deux modèles. \n◼ D’un côté le modèle gris du rejet et de l’autre\, le modèle vert de l’espoir. Du côté gris\, le modèle d’une société fermée\, ethnocentrée\, nationaliste\, qui joue sur les peurs\, exclut les immigré.e.s\, les chômeur.euse.s\, les personnes âgées\, les femmes\, qui exalte un passé que l’on pensait révolu… ❌ \n💚 Et de l’autre\, du côté du vert 🌿\, du côté de l’espoir\, une société ouverte\, accueillante\, cosmopolite\, internationaliste\, solidaire\, qui apporte des solutions même si on sait que ce n’est pas toujours facile\, qui inclut\, qui construit un avenir désirable 🙏 \nA tou.te.s ces citoyen.ne.s qui demandent un avenir et refusent les mesurettes\, nous leur répondons que nous sommes au 💚 du changement. \nLa voilà notre promesse pour le 26 mai : apporter ensemble espoir et solidarité dans une Belgique réconciliée 🇧🇪 \n📢 Rendez-vous ce 18 mai\, à une semaine des élections\, pour un dernier meeting de campagne et faire entendre haut et fort notre vision du monde 🌍 \nAu programme \n10:45 – 11:00 : Accueil public\n11:00 – 11:30 : Speechs\n11:30 – 12:00 : Café & moment convivial
URL:https://ixelles.ecolo.be/event/toutes-et-tous-au-coeur-du-changement-meeting-de-campagne/
LOCATION:La Tricoterie\, Rue Théodore Verhaegen 158\, Saint-Gilles\, 1060\, Belgique
END:VEVENT
BEGIN:VEVENT
DTSTART;TZID=Europe/Brussels:20190514T193000
DTEND;TZID=Europe/Brussels:20190514T223000
DTSTAMP:20260421T121448
CREATED:20190513T205428Z
LAST-MODIFIED:20190515T233506Z
UID:5271-1557862200-1557873000@ixelles.ecolo.be
SUMMARY:Soirée Pacte d'Excellence
DESCRIPTION:Ecolo-Groen Woluwe-Saint-Lambert et Woluwe-Saint-Pierre vous invitent à une soirée de réflexion sur le Pacte d’excellence\, le 14 mai à 19h30. Nous aurons le plaisir de discuter avec trois intervenants : \n– Alain Eraly\, professeur de sociologie à l’ULB et président du GT gouvernance du Pacte\n– Barbara Trachte\, députée Ecolo au Parlement bruxellois et au Parlement de laFWB\n– Raphaël van Breugel\, directeur du Collège Saint-Hubert \nLe programme de la soirée:\nà 19h30 : drink de bienvenue\nà 20h : début du débat\nà 22h : drink de clôture \nSi vous souhaitez d’ores et déjà poser des questions à nos intervenants\, n’hésitez pas à nous les faire parvenir à l’adresse : ecolo1200@gmail.com
URL:https://ixelles.ecolo.be/event/conference-le-bonheur-national-brut/
LOCATION:Salle la Rotonde\, 54\, avenue J.F. Debecker\, 1200 Woluwe-Saint-Lambert\, avenue J.F. Debecker 54\, Woluwe-Saint-Lambert\, 1200\, Belgique
END:VEVENT
END:VCALENDAR